BEGIN:VCALENDAR
VERSION:2.0
METHOD:PUBLISH
PRODID:-//Causal Sarl//LionsBase Calendar 5.0.x-dev//DE
TZID:Europe/Zurich
BEGIN:VEVENT
UID:33499_20260425@kaprun.lions.at
DTSTAMP:20260425T025901Z
DTSTART:20260425T153000Z
DTEND:20260425T210000Z
ORGANIZER:LC Kaprun
LOCATION:Ferry Porsche Congress
SUMMARY:Clubball Kiwanis Ferry Porsche Congress
DESCRIPTION:
END:VEVENT
END:VCALENDAR
