BEGIN:VCALENDAR
VERSION:2.0
METHOD:PUBLISH
PRODID:-//Causal Sarl//LionsBase Calendar 5.0.x-dev//EN
TZID:Europe/Zurich
BEGIN:VEVENT
UID:33498_20260422@kaprun.lions.at
DTSTAMP:20260420T182823Z
DTSTART:20260422T170000Z
DTEND:20260422T200000Z
ORGANIZER:LC Kaprun
LOCATION:Al Fotografo Thumbersbach
SUMMARY:Al Fotografo Weinverkostung
DESCRIPTION:Auswahl der Weine für das Dorfest mit Max Seitz 
 (Diplom Sommelier Fa. Vinobile)
END:VEVENT
END:VCALENDAR
